BEGIN:VCALENDAR
VERSION:2.0
PRODID:-//jEvents 2.0 for Joomla//EN
CALSCALE:GREGORIAN
METHOD:PUBLISH
BEGIN:VTIMEZONE
TZID:Europe/Berlin
BEGIN:STANDARD
DTSTART:20220206T180000
RDATE:20220327T030000
TZOFFSETFROM:+0200
TZOFFSETTO:+0100
TZNAME:Europe/Berlin CET
END:STANDARD
BEGIN:STANDARD
DTSTART:20221030T020000
RDATE:20230326T030000
TZOFFSETFROM:+0200
TZOFFSETTO:+0100
TZNAME:Europe/Berlin CET
END:STANDARD
BEGIN:STANDARD
DTSTART:20231029T020000
RDATE:20240331T030000
TZOFFSETFROM:+0200
TZOFFSETTO:+0100
TZNAME:Europe/Berlin CET
END:STANDARD
BEGIN:STANDARD
DTSTART:20241027T020000
RDATE:20250330T030000
TZOFFSETFROM:+0200
TZOFFSETTO:+0100
TZNAME:Europe/Berlin CET
END:STANDARD
BEGIN:STANDARD
DTSTART:20251026T020000
RDATE:20260329T030000
TZOFFSETFROM:+0200
TZOFFSETTO:+0100
TZNAME:Europe/Berlin CET
END:STANDARD
BEGIN:STANDARD
DTSTART:20261025T020000
RDATE:20270328T030000
TZOFFSETFROM:+0200
TZOFFSETTO:+0100
TZNAME:Europe/Berlin CET
END:STANDARD
BEGIN:STANDARD
DTSTART:20271031T020000
RDATE:20280326T030000
TZOFFSETFROM:+0200
TZOFFSETTO:+0100
TZNAME:Europe/Berlin CET
END:STANDARD
BEGIN:STANDARD
DTSTART:20281029T020000
RDATE:20290325T030000
TZOFFSETFROM:+0200
TZOFFSETTO:+0100
TZNAME:Europe/Berlin CET
END:STANDARD
BEGIN:DAYLIGHT
DTSTART:20220327T030000
RDATE:20221030T020000
TZOFFSETFROM:+0100
TZOFFSETTO:+0200
TZNAME:Europe/Berlin CEST
END:DAYLIGHT
BEGIN:DAYLIGHT
DTSTART:20230326T030000
RDATE:20231029T020000
TZOFFSETFROM:+0100
TZOFFSETTO:+0200
TZNAME:Europe/Berlin CEST
END:DAYLIGHT
BEGIN:DAYLIGHT
DTSTART:20240331T030000
RDATE:20241027T020000
TZOFFSETFROM:+0100
TZOFFSETTO:+0200
TZNAME:Europe/Berlin CEST
END:DAYLIGHT
BEGIN:DAYLIGHT
DTSTART:20250330T030000
RDATE:20251026T020000
TZOFFSETFROM:+0100
TZOFFSETTO:+0200
TZNAME:Europe/Berlin CEST
END:DAYLIGHT
BEGIN:DAYLIGHT
DTSTART:20260329T030000
RDATE:20261025T020000
TZOFFSETFROM:+0100
TZOFFSETTO:+0200
TZNAME:Europe/Berlin CEST
END:DAYLIGHT
BEGIN:DAYLIGHT
DTSTART:20270328T030000
RDATE:20271031T020000
TZOFFSETFROM:+0100
TZOFFSETTO:+0200
TZNAME:Europe/Berlin CEST
END:DAYLIGHT
BEGIN:DAYLIGHT
DTSTART:20280326T030000
RDATE:20281029T020000
TZOFFSETFROM:+0100
TZOFFSETTO:+0200
TZNAME:Europe/Berlin CEST
END:DAYLIGHT
END:VTIMEZONE
BEGIN:VEVENT
UID:3d80f54bdd3af64c4552ba352a146573
CATEGORIES:öffentlich
CREATED:20230207T154049
SUMMARY:DACHVERBANDSTREFFEN 
LOCATION:Kolpinghaus am Schwanenplatz\, Regensburg
DESCRIPTION:1. Begrüßung\n2. Aktuelle Runde\n3. KASSENBERICHT 2022\n4. ZUSCHÜSSE an Mit
 gliedsvereine: bisher wurden sechs Anträge eingereicht, bis morgen sind noc
 h Nachmeldungen möglich, siehe letzte Dachverbandsinfo vom 19. januar.\n5. 
 FESTEKALENDER 2022 \n6. Brainstorming für unser 50-JÄHRIGES (terminvorschla
 g: Samstag, 20. april 2024)\n7. Sonstiges und falls wir noch Zeit haben: wi
 e positionieren wir uns in Regensburg zu den großen Themen unserer Zeit:\n\
 n - Frieden schaffen ohne Waffen?\n - Klimakrise (globaler Streiktag 3. Mär
 z) und\n - Milliardengrab oder Verkehrswende Stadtbahn?
X-ALT-DESC;FMTTYPE=text/html:<p>1. Begrüßung<br />2. Aktuelle Runde<br />3. KASSENBERICHT 2022<br />4. Z
 USCHÜSSE an Mitgliedsvereine: bisher wurden sechs Anträge eingereicht, bis 
 morgen sind noch Nachmeldungen möglich, siehe letzte Dachverbandsinfo vom 1
 9. januar.<br />5. FESTEKALENDER 2022 <br />6. Brainstorming für unser 50-J
 ÄHRIGES (terminvorschlag: Samstag, 20. april 2024)<br />7. Sonstiges und fa
 lls wir noch Zeit haben: wie positionieren wir uns in Regensburg zu den gro
 ßen Themen unserer Zeit:</p><ul><li>Frieden schaffen ohne Waffen?</li><li>K
 limakrise (globaler Streiktag 3. März) und</li><li>Milliardengrab oder Verk
 ehrswende Stadtbahn?</li></ul>
DTSTAMP:20260420T130519
DTSTART;TZID=Europe/Berlin:20230207T180000
SEQUENCE:0
TRANSP:OPAQUE
END:VEVENT
END:VCALENDAR