BEGIN:VCALENDAR
VERSION:2.0
PRODID:-//jEvents 2.0 for Joomla//EN
CALSCALE:GREGORIAN
METHOD:PUBLISH
BEGIN:VTIMEZONE
TZID:Europe/Berlin
BEGIN:STANDARD
DTSTART:20211031T020000
RDATE:20220327T030000
TZOFFSETFROM:+0200
TZOFFSETTO:+0100
TZNAME:Europe/Berlin CET
END:STANDARD
BEGIN:STANDARD
DTSTART:20221030T020000
RDATE:20230326T030000
TZOFFSETFROM:+0200
TZOFFSETTO:+0100
TZNAME:Europe/Berlin CET
END:STANDARD
BEGIN:STANDARD
DTSTART:20231029T020000
RDATE:20240331T030000
TZOFFSETFROM:+0200
TZOFFSETTO:+0100
TZNAME:Europe/Berlin CET
END:STANDARD
BEGIN:STANDARD
DTSTART:20241027T020000
RDATE:20250330T030000
TZOFFSETFROM:+0200
TZOFFSETTO:+0100
TZNAME:Europe/Berlin CET
END:STANDARD
BEGIN:STANDARD
DTSTART:20251026T020000
RDATE:20260329T030000
TZOFFSETFROM:+0200
TZOFFSETTO:+0100
TZNAME:Europe/Berlin CET
END:STANDARD
BEGIN:STANDARD
DTSTART:20261025T020000
RDATE:20270328T030000
TZOFFSETFROM:+0200
TZOFFSETTO:+0100
TZNAME:Europe/Berlin CET
END:STANDARD
BEGIN:STANDARD
DTSTART:20271031T020000
RDATE:20280326T030000
TZOFFSETFROM:+0200
TZOFFSETTO:+0100
TZNAME:Europe/Berlin CET
END:STANDARD
BEGIN:STANDARD
DTSTART:20281029T020000
RDATE:20290325T030000
TZOFFSETFROM:+0200
TZOFFSETTO:+0100
TZNAME:Europe/Berlin CET
END:STANDARD
BEGIN:DAYLIGHT
DTSTART:20211006T150000
RDATE:20211031T020000
TZOFFSETFROM:+0100
TZOFFSETTO:+0200
TZNAME:Europe/Berlin CEST
END:DAYLIGHT
BEGIN:DAYLIGHT
DTSTART:20220327T030000
RDATE:20221030T020000
TZOFFSETFROM:+0100
TZOFFSETTO:+0200
TZNAME:Europe/Berlin CEST
END:DAYLIGHT
BEGIN:DAYLIGHT
DTSTART:20230326T030000
RDATE:20231029T020000
TZOFFSETFROM:+0100
TZOFFSETTO:+0200
TZNAME:Europe/Berlin CEST
END:DAYLIGHT
BEGIN:DAYLIGHT
DTSTART:20240331T030000
RDATE:20241027T020000
TZOFFSETFROM:+0100
TZOFFSETTO:+0200
TZNAME:Europe/Berlin CEST
END:DAYLIGHT
BEGIN:DAYLIGHT
DTSTART:20250330T030000
RDATE:20251026T020000
TZOFFSETFROM:+0100
TZOFFSETTO:+0200
TZNAME:Europe/Berlin CEST
END:DAYLIGHT
BEGIN:DAYLIGHT
DTSTART:20260329T030000
RDATE:20261025T020000
TZOFFSETFROM:+0100
TZOFFSETTO:+0200
TZNAME:Europe/Berlin CEST
END:DAYLIGHT
BEGIN:DAYLIGHT
DTSTART:20270328T030000
RDATE:20271031T020000
TZOFFSETFROM:+0100
TZOFFSETTO:+0200
TZNAME:Europe/Berlin CEST
END:DAYLIGHT
BEGIN:DAYLIGHT
DTSTART:20280326T030000
RDATE:20281029T020000
TZOFFSETFROM:+0100
TZOFFSETTO:+0200
TZNAME:Europe/Berlin CEST
END:DAYLIGHT
END:VTIMEZONE
BEGIN:VEVENT
UID:ea78fd28c1573603576d1493936902e0
CATEGORIES:öffentlich
CREATED:20221007T130648
SUMMARY:AKTIONSTAG "für Bezahlbare Mieten" 
DESCRIPTION:Bezahlbare Mieten! Im Rahmen eines bundesweiten "Aktionstages Mietenstopp" 
 gibt es 7. Oktober in Regensburg eine Kundgebung am Haidplatz (15- 18 Uhr),
  wo Vertreter von sozialen Organisationen, Gewerkschaften und auch MdB's vo
 n Grünen, Linken und SPD sprechen werden. Veranstalter ist das Regensburger
  Forum gegen Armut, ein Zusammenschluß von attac, Paritätischem, Sozialen I
 nitiativen, ver.di und Nichtorganisierten. Dazu gibt es viele Informationen
  und Livemusik vom Duo „Straight n' Curly. Am Abend dieses Tages wird im EB
 W am Ölberg auch ein Vortrag angeboten, wo das Thema "Bodenspekulation" ang
 esprochen und diskutiert werden soll, wie sehr sich die enorm gestiegenen G
 rundstückspreise inzwischen auf die Mieten auswirken.\n
X-ALT-DESC;FMTTYPE=text/html:<p>Bezahlbare Mieten! Im Rahmen eines bundesweiten "Aktionstages Mietenstop
 p" gibt es 7. Oktober in Regensburg eine Kundgebung am Haidplatz (15- 18 Uh
 r), wo Vertreter von sozialen Organisationen, Gewerkschaften und auch MdB's
  von Grünen, Linken und SPD sprechen werden. Veranstalter ist das Regensbur
 ger Forum gegen Armut, ein Zusammenschluß von attac, Paritätischem, Soziale
 n Initiativen, ver.di und Nichtorganisierten. Dazu gibt es viele Informatio
 nen und Livemusik vom Duo „Straight n' Curly. Am Abend dieses Tages wird im
  EBW am Ölberg auch ein Vortrag angeboten, wo das Thema "Bodenspekulation" 
 angesprochen und diskutiert werden soll, wie sehr sich die enorm gestiegene
 n Grundstückspreise inzwischen auf die Mieten auswirken.</p>
DTSTAMP:20260421T034937
DTSTART;TZID=Europe/Berlin:20221007T150000
DTEND;TZID=Europe/Berlin:20221007T170000
SEQUENCE:0
TRANSP:OPAQUE
END:VEVENT
END:VCALENDAR