BEGIN:VCALENDAR
VERSION:2.0
PRODID:-//jEvents 2.0 for Joomla//EN
CALSCALE:GREGORIAN
METHOD:PUBLISH
BEGIN:VTIMEZONE
TZID:Europe/Berlin
BEGIN:STANDARD
DTSTART:20201025T020000
RDATE:20210328T030000
TZOFFSETFROM:+0200
TZOFFSETTO:+0100
TZNAME:Europe/Berlin CET
END:STANDARD
BEGIN:STANDARD
DTSTART:20211031T020000
RDATE:20220327T030000
TZOFFSETFROM:+0200
TZOFFSETTO:+0100
TZNAME:Europe/Berlin CET
END:STANDARD
BEGIN:STANDARD
DTSTART:20221030T020000
RDATE:20230326T030000
TZOFFSETFROM:+0200
TZOFFSETTO:+0100
TZNAME:Europe/Berlin CET
END:STANDARD
BEGIN:STANDARD
DTSTART:20231029T020000
RDATE:20240331T030000
TZOFFSETFROM:+0200
TZOFFSETTO:+0100
TZNAME:Europe/Berlin CET
END:STANDARD
BEGIN:STANDARD
DTSTART:20241027T020000
RDATE:20250330T030000
TZOFFSETFROM:+0200
TZOFFSETTO:+0100
TZNAME:Europe/Berlin CET
END:STANDARD
BEGIN:STANDARD
DTSTART:20251026T020000
RDATE:20260329T030000
TZOFFSETFROM:+0200
TZOFFSETTO:+0100
TZNAME:Europe/Berlin CET
END:STANDARD
BEGIN:STANDARD
DTSTART:20261025T020000
RDATE:20270328T030000
TZOFFSETFROM:+0200
TZOFFSETTO:+0100
TZNAME:Europe/Berlin CET
END:STANDARD
BEGIN:STANDARD
DTSTART:20271031T020000
RDATE:20280326T030000
TZOFFSETFROM:+0200
TZOFFSETTO:+0100
TZNAME:Europe/Berlin CET
END:STANDARD
BEGIN:STANDARD
DTSTART:20281029T020000
RDATE:20290325T030000
TZOFFSETFROM:+0200
TZOFFSETTO:+0100
TZNAME:Europe/Berlin CET
END:STANDARD
BEGIN:DAYLIGHT
DTSTART:20200703T120000
RDATE:20201025T020000
TZOFFSETFROM:+0100
TZOFFSETTO:+0200
TZNAME:Europe/Berlin CEST
END:DAYLIGHT
BEGIN:DAYLIGHT
DTSTART:20210328T030000
RDATE:20211031T020000
TZOFFSETFROM:+0100
TZOFFSETTO:+0200
TZNAME:Europe/Berlin CEST
END:DAYLIGHT
BEGIN:DAYLIGHT
DTSTART:20220327T030000
RDATE:20221030T020000
TZOFFSETFROM:+0100
TZOFFSETTO:+0200
TZNAME:Europe/Berlin CEST
END:DAYLIGHT
BEGIN:DAYLIGHT
DTSTART:20230326T030000
RDATE:20231029T020000
TZOFFSETFROM:+0100
TZOFFSETTO:+0200
TZNAME:Europe/Berlin CEST
END:DAYLIGHT
BEGIN:DAYLIGHT
DTSTART:20240331T030000
RDATE:20241027T020000
TZOFFSETFROM:+0100
TZOFFSETTO:+0200
TZNAME:Europe/Berlin CEST
END:DAYLIGHT
BEGIN:DAYLIGHT
DTSTART:20250330T030000
RDATE:20251026T020000
TZOFFSETFROM:+0100
TZOFFSETTO:+0200
TZNAME:Europe/Berlin CEST
END:DAYLIGHT
BEGIN:DAYLIGHT
DTSTART:20260329T030000
RDATE:20261025T020000
TZOFFSETFROM:+0100
TZOFFSETTO:+0200
TZNAME:Europe/Berlin CEST
END:DAYLIGHT
BEGIN:DAYLIGHT
DTSTART:20270328T030000
RDATE:20271031T020000
TZOFFSETFROM:+0100
TZOFFSETTO:+0200
TZNAME:Europe/Berlin CEST
END:DAYLIGHT
BEGIN:DAYLIGHT
DTSTART:20280326T030000
RDATE:20281029T020000
TZOFFSETFROM:+0100
TZOFFSETTO:+0200
TZNAME:Europe/Berlin CEST
END:DAYLIGHT
END:VTIMEZONE
BEGIN:VEVENT
UID:a5b46404cc448c9943dff9bb319a5065
CATEGORIES:öffentlich
CREATED:20210614T183737
SUMMARY:Das  Bürgerfest fällt heuer aus: Es lebe das Bürgerfest! -- NON-STOP-Bürgerfestkino im GARBO
LOCATION:GARBO Kino\, Weißgerbergraben 11A
DESCRIPTION:NON-STOP-Bürgerfestkino im GARBOAchtung: Bürgerfestkino muß ausfallen!Wegen
  technischer Probleme, die erst zum offiziellen Kinostart am 1. Juli behobe
 n werden können, muß das für dieses Wochenende  19.06./20.06.2021 angekündi
 gte GARBO-Non-Stop-Bürgerfestkino leider ausfallen.Das volle Programm (Tite
 l und Abfolge siehe auch www.soziale-initiativen.de (http://www.soziale-ini
 tiativen.de)!) mit erstem Bürgerfestfilm sowie Regensburger-Doku-Schmankerl
 n und Spielfilmen wird\nam Sonntag 4. Juli von 10 bis 16 Uhr im GARBO am We
 issgerbergraben nachgeholt. PROGRAMM\n - 12 – 14 Uhr \n Momentaufnahmen der
  jüngeren Regensburger Stadtgeschichte (zusammengestellt von Dr. Helmut Die
 wald*): \n Endschießen der Armbrustschützen zum großen Stahl 1922 (3 Min.) 
 \n Hochwasser 1988 (30 Min.) \n Rhein-Main-Donau-Kanal in Regensburg Stadta
 mhof (30 Min.) \n Ausgrabungen anläßlich Tiefgaragenbau am Bismarckplatz 19
 ?? (10) \n Neubau Eiserne Brücke 1990 (10 Min.) \n Neubau Hypobank mit Rede
  von Architekt Dömges 1993 (20 Min.)\n - 14 - 16 Uhr \n Kurzfilm NON-STOP v
 om ersten Bürgerfest 1973 (18. Min.)\n\n - 16 - 18 Uhr Alte Spielfilm- und 
 Doku-Schmankerln (*):\n "Play Harlekin - über den Dächern von Regensburg“ \
 nHauptdarsteller Handstand-Lucke (20 Min.)\n"Bummel durch die 2000-jährige 
 Ratisbona anno 1970" (45 Min.)\nKleines Herz im Donautal: Dramatische S-W-R
 omanze im Regensburg der frühen 50-er Jahre (45 Min.)\n \nAlle  BÜRGERFEST-
 PLAKATE  seit  1973Beim ersten Bürgerfest 1973 stand der Haidplatz im Mitte
 lpunkt, hier wurde sogar ein 34-m-Maibaum aufgestellt! Heuer muß das für 18
 . bis 20. Juni geplante Fest wegen Corona leider ausfallen, aber die SOZIAL
 EN INITIATIVEN präsentieren - mit Unterstützung von Kulturamt und Regensbur
 ger Fotografischer Gesellschaft - alle 23 Bürgerfestplakate seit 1993 am Ha
 idplatz:\nIm Cafe Goldenes Kreuz (12), bei Musik Wittl (6), Lauf-und Berg-K
 önig (2) und in der Passage Haidplatz 7 bei der DONAUPOST (3).\nAuf einem e
 inzigen der 23 Plakate ist auch ein Motto verewigt und wenn sie uns die Jah
 reszahl durchgeben (unter Diese E-Mail-Adresse ist vor Spambots geschützt! 
 Zur Anzeige muss JavaScript eingeschaltet sein. oder 0941-72007 mit Anrufbe
 antworter), nehmen sie an einer Gutschein-Verlosung teil. Die Gewinner*inne
 n werden im nächsten DONAUSTRUDL bekannt gegeben. Im Bürgerfest-Themenheft 
 der Juni-Ausgabe finden Sie übrigens auch eine Geschichte aller Bürgerfeste
 ! \nAuf Wiederlesen!\n
X-ALT-DESC;FMTTYPE=text/html:<h2>NON-STOP-Bürgerfestkino im GARBO</h2><h1 style="color: red;">Achtung: B
 ürgerfestkino muß ausfallen!</h1><h3 style="color: red;">Wegen technischer 
 Probleme, die erst zum offiziellen Kinostart am 1. Juli behoben werden könn
 en, muß das für dieses Wochenende  19.06./20.06.2021 angekündigte GARBO-Non
 -Stop-Bürgerfestkino leider ausfallen.</h3><h3 style="color: red;">Das voll
 e Programm (Titel und Abfolge siehe auch <a href="http://www.soziale-initia
 tiven.de">www.soziale-initiativen.de</a>!) mit erstem Bürgerfestfilm sowie 
 Regensburger-Doku-Schmankerln und Spielfilmen wird<br />am Sonntag <strong>
 4. Juli von 10 bis 16 Uhr im GARBO am Weissgerbergraben nachgeholt.</strong
 ></h3><h2> </h2><h2><strong>PROGRAMM</strong></h2><ul><li><strong>12 – 14 U
 hr</strong> <br /> Momentaufnahmen der jüngeren Regensburger Stadtgeschicht
 e (zusammengestellt von Dr. Helmut Diewald*): <br /> Endschießen der Armbru
 stschützen zum großen Stahl 1922 (3 Min.) <br /> Hochwasser 1988 (30 Min.) 
 <br /> Rhein-Main-Donau-Kanal in Regensburg Stadtamhof (30 Min.) <br /> Aus
 grabungen anläßlich Tiefgaragenbau am Bismarckplatz 19?? (10) <br /> Neubau
  Eiserne Brücke 1990 (10 Min.) <br /> Neubau Hypobank mit Rede von Architek
 t Dömges 1993 (20 Min.)</li><li><p><strong>14 - 16 Uhr</strong> <br /> Kurz
 film NON-STOP vom ersten Bürgerfest 1973 (18. Min.)</p></li><li><p><strong>
 16 - 18 Uhr</strong> Alte Spielfilm- und Doku-Schmankerln (*):<br /> "Play 
 Harlekin - über den Dächern von Regensburg“ <br />Hauptdarsteller Handstand
 -Lucke (20 Min.)</p></li></ul><p style="padding-left: 30px;">"Bummel durch 
 die 2000-jährige Ratisbona anno 1970" (45 Min.)</p><p style="padding-left: 
 30px;">Kleines Herz im Donautal: Dramatische S-W-Romanze im Regensburg der 
 frühen 50-er Jahre (45 Min.)</p><p style="padding-left: 30px;"> </p><h2><st
 rong>Alle  BÜRGERFEST-PLAKATE  seit  1973</strong></h2><p>Beim ersten Bürge
 rfest 1973 stand der Haidplatz im Mittelpunkt, hier wurde sogar ein 34-m-Ma
 ibaum aufgestellt! <strong>Heuer muß das für 18. bis 20. Juni geplante Fest
  wegen Corona leider ausfallen</strong>, aber die SOZIALEN INITIATIVEN präs
 entieren - mit Unterstützung von Kulturamt und Regensburger Fotografischer 
 Gesellschaft - alle 23 Bürgerfestplakate seit 1993 am Haidplatz:</p><p><str
 ong>Im Cafe Goldenes Kreuz (12), bei Musik Wittl (6), Lauf-und Berg-König (
 2) und in der Passage Haidplatz 7 bei der DONAUPOST (3).</strong></p><p><st
 rong>Auf einem einzigen der 23 Plakate ist auch ein Motto verewigt</strong>
  und wenn sie uns die Jahreszahl durchgeben (unter <span id="cloakfe225751a
 0d8e7cad3c270229d32d194"><joomla-hidden-mail  is-link="1" is-email="1" firs
 t="aW5mbw==" last="c296aWFsZS1pbml0aWF0aXZlbi5kZQ==" text="aW5mb0Bzb3ppYWxl
 LWluaXRpYXRpdmVuLmRl" base="" >Diese E-Mail-Adresse ist vor Spambots geschü
 tzt! Zur Anzeige muss JavaScript eingeschaltet sein.</joomla-hidden-mail></
 span> oder 0941-72007 mit Anrufbeantworter), nehmen sie an einer Gutschein-
 Verlosung teil. Die Gewinner*innen werden im nächsten DONAUSTRUDL bekannt g
 egeben. Im Bürgerfest-Themenheft der Juni-Ausgabe finden Sie übrigens auch 
 eine Geschichte aller Bürgerfeste! </p><p style="text-align: center;">Auf W
 iederlesen!</p>
DTSTAMP:20260421T103719
DTSTART;TZID=Europe/Berlin:20210704T120000
DTEND;TZID=Europe/Berlin:20210704T180000
SEQUENCE:0
TRANSP:OPAQUE
END:VEVENT
END:VCALENDAR